BEGIN:VCALENDAR
VERSION:2.0
CALSCALE:GREGORIAN
BEGIN:VEVENT
URL:https://www.learndesk.us/class/4608670140727296/lesson/cefc96fab028e05751114d1e764572b4?ref=outlook-calendar
SUMMARY:Send Email Using PHPMailer
DTSTART;TZID=America/Los_Angeles:20260423T190000
DTEND;TZID=America/Los_Angeles:20260423T200000
LOCATION:https://www.learndesk.us/class/4608670140727296/lesson/cefc96fab028e05751114d1e764572b4?ref=outlook-calendar
DESCRIPTION: There are two main types of email you can send and receive: plain text emails(these are exactly what they sound like -- any email that contains just plain old text with no formatting) and HTML emails, which are formatted and styled using HTML and inline CSS.

Plain text emails are easy to spot -- they are just simple text, no styling, all the same size.

https://www.learndesk.us/class/4608670140727296/lesson/cefc96fab028e05751114d1e764572b4?ref=outlook-calendar
STATUS:CONFIRMED
SEQUENCE:3
BEGIN:VALARM
TRIGGER:-PT10M
DESCRIPTION:Class Reminder
ACTION:DISPLAY
END:VALARM
END:VEVENT
END:VCALENDAR