BEGIN:VCALENDAR
VERSION:2.0
CALSCALE:GREGORIAN
BEGIN:VEVENT
URL:https://www.learndesk.us/class/4608670140727296/lesson/cd175acedc2aa0c5b0b575052bb5c0fd?ref=outlook-calendar
SUMMARY:Open, Read & Close A File (fopen(), fread(), fclose())
DTSTART;TZID=America/Los_Angeles:20260423T190000
DTEND;TZID=America/Los_Angeles:20260423T200000
LOCATION:https://www.learndesk.us/class/4608670140727296/lesson/cd175acedc2aa0c5b0b575052bb5c0fd?ref=outlook-calendar
DESCRIPTION: A better method to open files is with the fopen() function. This function gives you more options than the readfile() function.



The fread() function reads from an open file.

The first parameter of fread() contains the name of the file to read from and the second parameter specifies the maximum number of bytes to read.



The fclose() function is used to close an open file.

https://www.learndesk.us/class/4608670140727296/lesson/cd175acedc2aa0c5b0b575052bb5c0fd?ref=outlook-calendar
STATUS:CONFIRMED
SEQUENCE:3
BEGIN:VALARM
TRIGGER:-PT10M
DESCRIPTION:Class Reminder
ACTION:DISPLAY
END:VALARM
END:VEVENT
END:VCALENDAR