BEGIN:VCALENDAR
VERSION:2.0
CALSCALE:GREGORIAN
BEGIN:VEVENT
URL:https://www.learndesk.us/class/4608670140727296/lesson/cd02acab6ddc9b136b6f29126f26eb3f?ref=outlook-calendar
SUMMARY:Drop Database
DTSTART;TZID=America/Los_Angeles:20260423T190000
DTEND;TZID=America/Los_Angeles:20260423T200000
LOCATION:https://www.learndesk.us/class/4608670140727296/lesson/cd02acab6ddc9b136b6f29126f26eb3f?ref=outlook-calendar
DESCRIPTION: DROP DATABASE drops all tables in the database and deletes the database.

https://www.learndesk.us/class/4608670140727296/lesson/cd02acab6ddc9b136b6f29126f26eb3f?ref=outlook-calendar
STATUS:CONFIRMED
SEQUENCE:3
BEGIN:VALARM
TRIGGER:-PT10M
DESCRIPTION:Class Reminder
ACTION:DISPLAY
END:VALARM
END:VEVENT
END:VCALENDAR