BEGIN:VCALENDAR
VERSION:2.0
CALSCALE:GREGORIAN
BEGIN:VEVENT
URL:https://www.learndesk.us/class/4608670140727296/lesson/c85d3d8af4881abeba02ade24336cad2?ref=outlook-calendar
SUMMARY:Create Table Using CREATE Query
DTSTART;TZID=America/Los_Angeles:20260423T190000
DTEND;TZID=America/Los_Angeles:20260423T200000
LOCATION:https://www.learndesk.us/class/4608670140727296/lesson/c85d3d8af4881abeba02ade24336cad2?ref=outlook-calendar
DESCRIPTION: The CREATE TABLE statement is used to create a new table in a database.

https://www.learndesk.us/class/4608670140727296/lesson/c85d3d8af4881abeba02ade24336cad2?ref=outlook-calendar
STATUS:CONFIRMED
SEQUENCE:3
BEGIN:VALARM
TRIGGER:-PT10M
DESCRIPTION:Class Reminder
ACTION:DISPLAY
END:VALARM
END:VEVENT
END:VCALENDAR