BEGIN:VCALENDAR
VERSION:2.0
CALSCALE:GREGORIAN
BEGIN:VEVENT
URL:https://www.learndesk.us/class/4608670140727296/lesson/c8476e9c0872eca690babb5f94b213fd?ref=outlook-calendar
SUMMARY:Object Oriented Programming
DTSTART;TZID=America/Los_Angeles:20260423T190000
DTEND;TZID=America/Los_Angeles:20260423T200000
LOCATION:https://www.learndesk.us/class/4608670140727296/lesson/c8476e9c0872eca690babb5f94b213fd?ref=outlook-calendar
DESCRIPTION: https://www.learndesk.us/class/4608670140727296/lesson/c8476e9c0872eca690babb5f94b213fd?ref=outlook-calendar
STATUS:CONFIRMED
SEQUENCE:3
BEGIN:VALARM
TRIGGER:-PT10M
DESCRIPTION:Class Reminder
ACTION:DISPLAY
END:VALARM
END:VEVENT
END:VCALENDAR