BEGIN:VCALENDAR
VERSION:2.0
CALSCALE:GREGORIAN
BEGIN:VEVENT
URL:https://www.learndesk.us/class/4608670140727296/lesson/c4cbe0229a9bd305e6d46cab16aea96c?ref=outlook-calendar
SUMMARY:Send A HTML Email
DTSTART;TZID=America/Los_Angeles:20260423T190000
DTEND;TZID=America/Los_Angeles:20260423T200000
LOCATION:https://www.learndesk.us/class/4608670140727296/lesson/c4cbe0229a9bd305e6d46cab16aea96c?ref=outlook-calendar
DESCRIPTION: There are two main types of email you can send and receive: plain text emails(these are exactly what they sound like -- any email that contains just plain old text with no formatting) and HTML emails, which are formatted and styled using HTML and inline CSS.

HTML emails are easy to spot -- most of the styled, multimedia marketing emails in your inbox are HTML emails.

https://www.learndesk.us/class/4608670140727296/lesson/c4cbe0229a9bd305e6d46cab16aea96c?ref=outlook-calendar
STATUS:CONFIRMED
SEQUENCE:3
BEGIN:VALARM
TRIGGER:-PT10M
DESCRIPTION:Class Reminder
ACTION:DISPLAY
END:VALARM
END:VEVENT
END:VCALENDAR