BEGIN:VCALENDAR
VERSION:2.0
CALSCALE:GREGORIAN
BEGIN:VEVENT
URL:https://www.learndesk.us/class/4608670140727296/lesson/bfc12e92437054707a288b5bb8215114?ref=outlook-calendar
SUMMARY:for Loop
DTSTART;TZID=America/Los_Angeles:20260423T190000
DTEND;TZID=America/Los_Angeles:20260423T200000
LOCATION:https://www.learndesk.us/class/4608670140727296/lesson/bfc12e92437054707a288b5bb8215114?ref=outlook-calendar
DESCRIPTION: The for statement is used to iterate over the elements of a sequence. It's traditionally used when you have a piece of code which you want to repeat n number of time. The for loop is often distinguished by an explicit loop counter or loop variable.

https://www.learndesk.us/class/4608670140727296/lesson/bfc12e92437054707a288b5bb8215114?ref=outlook-calendar
STATUS:CONFIRMED
SEQUENCE:3
BEGIN:VALARM
TRIGGER:-PT10M
DESCRIPTION:Class Reminder
ACTION:DISPLAY
END:VALARM
END:VEVENT
END:VCALENDAR