BEGIN:VCALENDAR
VERSION:2.0
CALSCALE:GREGORIAN
BEGIN:VEVENT
URL:https://www.learndesk.us/class/4608670140727296/lesson/bf46c1cf8f7bbca8c9457e2545bda4cd?ref=outlook-calendar
SUMMARY:Break Statement
DTSTART;TZID=America/Los_Angeles:20260423T190000
DTEND;TZID=America/Los_Angeles:20260423T200000
LOCATION:https://www.learndesk.us/class/4608670140727296/lesson/bf46c1cf8f7bbca8c9457e2545bda4cd?ref=outlook-calendar
DESCRIPTION: The break statement terminates the current loop, switch, or label statement and transfers program control to the statement following the terminated statement.

https://www.learndesk.us/class/4608670140727296/lesson/bf46c1cf8f7bbca8c9457e2545bda4cd?ref=outlook-calendar
STATUS:CONFIRMED
SEQUENCE:3
BEGIN:VALARM
TRIGGER:-PT10M
DESCRIPTION:Class Reminder
ACTION:DISPLAY
END:VALARM
END:VEVENT
END:VCALENDAR