BEGIN:VCALENDAR
VERSION:2.0
CALSCALE:GREGORIAN
BEGIN:VEVENT
URL:https://www.learndesk.us/class/4608670140727296/lesson/bd101c464a7c3dd14d0b9680a037e412?ref=outlook-calendar
SUMMARY:die() Function
DTSTART;TZID=America/Los_Angeles:20260423T190000
DTEND;TZID=America/Los_Angeles:20260423T200000
LOCATION:https://www.learndesk.us/class/4608670140727296/lesson/bd101c464a7c3dd14d0b9680a037e412?ref=outlook-calendar
DESCRIPTION: die( ) function is used to display a message and exit the script. It may be used to print alternate message . Instead of showing error it will show the user friendly message. die( ) function is only used to print string messages .value of variables cannot print with die( ) function.

https://www.learndesk.us/class/4608670140727296/lesson/bd101c464a7c3dd14d0b9680a037e412?ref=outlook-calendar
STATUS:CONFIRMED
SEQUENCE:3
BEGIN:VALARM
TRIGGER:-PT10M
DESCRIPTION:Class Reminder
ACTION:DISPLAY
END:VALARM
END:VEVENT
END:VCALENDAR