BEGIN:VCALENDAR
VERSION:2.0
CALSCALE:GREGORIAN
BEGIN:VEVENT
URL:https://www.learndesk.us/class/4608670140727296/lesson/ba7c655c31df8085f997622a079c445b?ref=outlook-calendar
SUMMARY:Read Single Line (fgets())
DTSTART;TZID=America/Los_Angeles:20260423T190000
DTEND;TZID=America/Los_Angeles:20260423T200000
LOCATION:https://www.learndesk.us/class/4608670140727296/lesson/ba7c655c31df8085f997622a079c445b?ref=outlook-calendar
DESCRIPTION: The fgets() function is used to read a single line from a file.

https://www.learndesk.us/class/4608670140727296/lesson/ba7c655c31df8085f997622a079c445b?ref=outlook-calendar
STATUS:CONFIRMED
SEQUENCE:3
BEGIN:VALARM
TRIGGER:-PT10M
DESCRIPTION:Class Reminder
ACTION:DISPLAY
END:VALARM
END:VEVENT
END:VCALENDAR