BEGIN:VCALENDAR
VERSION:2.0
CALSCALE:GREGORIAN
BEGIN:VEVENT
URL:https://www.learndesk.us/class/4608670140727296/lesson/b0bf8866eb7661ae6d0c49325bcb0409?ref=outlook-calendar
SUMMARY:Clone/Duplicate Table
DTSTART;TZID=America/Los_Angeles:20260423T190000
DTEND;TZID=America/Los_Angeles:20260423T200000
LOCATION:https://www.learndesk.us/class/4608670140727296/lesson/b0bf8866eb7661ae6d0c49325bcb0409?ref=outlook-calendar
DESCRIPTION: In this tutorial you will learn how to create a duplicate copy of an existing table.

https://www.learndesk.us/class/4608670140727296/lesson/b0bf8866eb7661ae6d0c49325bcb0409?ref=outlook-calendar
STATUS:CONFIRMED
SEQUENCE:3
BEGIN:VALARM
TRIGGER:-PT10M
DESCRIPTION:Class Reminder
ACTION:DISPLAY
END:VALARM
END:VEVENT
END:VCALENDAR