BEGIN:VCALENDAR
VERSION:2.0
CALSCALE:GREGORIAN
BEGIN:VEVENT
URL:https://www.learndesk.us/class/4608670140727296/lesson/ae976859865bb461d164a1ddf05c240c?ref=outlook-calendar
SUMMARY:What Is The XML Expat Parser?
DTSTART;TZID=America/Los_Angeles:20260423T190000
DTEND;TZID=America/Los_Angeles:20260423T200000
LOCATION:https://www.learndesk.us/class/4608670140727296/lesson/ae976859865bb461d164a1ddf05c240c?ref=outlook-calendar
DESCRIPTION: Expat is a stream-oriented XML 1.0 parser library, written in C. As one of the first available open-source XML parsers, Expat has found a place in many open-source projects. Such projects include the Apache HTTP Server, Mozilla, Perl, Python and PHP. It is also bound in many other languages.

https://www.learndesk.us/class/4608670140727296/lesson/ae976859865bb461d164a1ddf05c240c?ref=outlook-calendar
STATUS:CONFIRMED
SEQUENCE:3
BEGIN:VALARM
TRIGGER:-PT10M
DESCRIPTION:Class Reminder
ACTION:DISPLAY
END:VALARM
END:VEVENT
END:VCALENDAR