BEGIN:VCALENDAR
VERSION:2.0
CALSCALE:GREGORIAN
BEGIN:VEVENT
URL:https://www.learndesk.us/class/4608670140727296/lesson/a9bd45f16aa88c9c7d49d4e573ca2a80?ref=outlook-calendar
SUMMARY:Passing Function Arguments
DTSTART;TZID=America/Los_Angeles:20260423T190000
DTEND;TZID=America/Los_Angeles:20260423T200000
LOCATION:https://www.learndesk.us/class/4608670140727296/lesson/a9bd45f16aa88c9c7d49d4e573ca2a80?ref=outlook-calendar
DESCRIPTION: Passing arguments by reference and by value. When you pass an argument by reference, you pass a pointer to the value in memory. The function operates on the argument. When a function changes the value of an argument passed by reference, the original value changes.

https://www.learndesk.us/class/4608670140727296/lesson/a9bd45f16aa88c9c7d49d4e573ca2a80?ref=outlook-calendar
STATUS:CONFIRMED
SEQUENCE:3
BEGIN:VALARM
TRIGGER:-PT10M
DESCRIPTION:Class Reminder
ACTION:DISPLAY
END:VALARM
END:VEVENT
END:VCALENDAR