BEGIN:VCALENDAR
VERSION:2.0
CALSCALE:GREGORIAN
BEGIN:VEVENT
URL:https://www.learndesk.us/class/4608670140727296/lesson/a8ac59bee7e8bb664b4318a9277abe35?ref=outlook-calendar
SUMMARY:What Is Object Oriented Programming (OOP)?
DTSTART;TZID=America/Los_Angeles:20260423T190000
DTEND;TZID=America/Los_Angeles:20260423T200000
LOCATION:https://www.learndesk.us/class/4608670140727296/lesson/a8ac59bee7e8bb664b4318a9277abe35?ref=outlook-calendar
DESCRIPTION: Object-oriented programming (OOP) refers to a type of computer programming (software design) in which programmers define not only the data type of a data structure, but also the types of operations (functions) that can be applied to the data structure.

https://www.learndesk.us/class/4608670140727296/lesson/a8ac59bee7e8bb664b4318a9277abe35?ref=outlook-calendar
STATUS:CONFIRMED
SEQUENCE:3
BEGIN:VALARM
TRIGGER:-PT10M
DESCRIPTION:Class Reminder
ACTION:DISPLAY
END:VALARM
END:VEVENT
END:VCALENDAR