BEGIN:VCALENDAR
VERSION:2.0
CALSCALE:GREGORIAN
BEGIN:VEVENT
URL:https://www.learndesk.us/class/4608670140727296/lesson/a5383cdbcd2f64df12b5a60e20a193ae?ref=outlook-calendar
SUMMARY:Multidimensional Arrays
DTSTART;TZID=America/Los_Angeles:20260425T190000
DTEND;TZID=America/Los_Angeles:20260425T200000
LOCATION:https://www.learndesk.us/class/4608670140727296/lesson/a5383cdbcd2f64df12b5a60e20a193ae?ref=outlook-calendar
DESCRIPTION: A multidimensional array is an array containing one or more arrays. PHP understands multidimensional arrays that are two, three, four, five, or more levels deep. However, arrays more than three levels deep are hard to manage for most people.

https://www.learndesk.us/class/4608670140727296/lesson/a5383cdbcd2f64df12b5a60e20a193ae?ref=outlook-calendar
STATUS:CONFIRMED
SEQUENCE:3
BEGIN:VALARM
TRIGGER:-PT10M
DESCRIPTION:Class Reminder
ACTION:DISPLAY
END:VALARM
END:VEVENT
END:VCALENDAR