BEGIN:VCALENDAR
VERSION:2.0
CALSCALE:GREGORIAN
BEGIN:VEVENT
URL:https://www.learndesk.us/class/4608670140727296/lesson/a0f632c5685c721b60f8945a2cf493c1?ref=outlook-calendar
SUMMARY:Using JOINS
DTSTART;TZID=America/Los_Angeles:20260423T190000
DTEND;TZID=America/Los_Angeles:20260423T200000
LOCATION:https://www.learndesk.us/class/4608670140727296/lesson/a0f632c5685c721b60f8945a2cf493c1?ref=outlook-calendar
DESCRIPTION: A JOIN clause is used to combine rows from two or more tables, based on a related column between them.

https://www.learndesk.us/class/4608670140727296/lesson/a0f632c5685c721b60f8945a2cf493c1?ref=outlook-calendar
STATUS:CONFIRMED
SEQUENCE:3
BEGIN:VALARM
TRIGGER:-PT10M
DESCRIPTION:Class Reminder
ACTION:DISPLAY
END:VALARM
END:VEVENT
END:VCALENDAR