BEGIN:VCALENDAR
VERSION:2.0
CALSCALE:GREGORIAN
BEGIN:VEVENT
URL:https://www.learndesk.us/class/4608670140727296/lesson/a00186e85c79b89185619c28a349faf5?ref=outlook-calendar
SUMMARY:Variables
DTSTART;TZID=America/Los_Angeles:20260423T190000
DTEND;TZID=America/Los_Angeles:20260423T200000
LOCATION:https://www.learndesk.us/class/4608670140727296/lesson/a00186e85c79b89185619c28a349faf5?ref=outlook-calendar
DESCRIPTION: In computer programming, a variable or scalar is a storage location paired with an associated symbolic name, which contains some known or unknown quantity of information referred to as a value.

https://www.learndesk.us/class/4608670140727296/lesson/a00186e85c79b89185619c28a349faf5?ref=outlook-calendar
STATUS:CONFIRMED
SEQUENCE:3
BEGIN:VALARM
TRIGGER:-PT10M
DESCRIPTION:Class Reminder
ACTION:DISPLAY
END:VALARM
END:VEVENT
END:VCALENDAR