BEGIN:VCALENDAR
VERSION:2.0
CALSCALE:GREGORIAN
BEGIN:VEVENT
URL:https://www.learndesk.us/class/4608670140727296/lesson/9ede8925d209a07bd0815c0cce36fdfe?ref=outlook-calendar
SUMMARY:Insert Multiple Rows
DTSTART;TZID=America/Los_Angeles:20260423T190000
DTEND;TZID=America/Los_Angeles:20260423T200000
LOCATION:https://www.learndesk.us/class/4608670140727296/lesson/9ede8925d209a07bd0815c0cce36fdfe?ref=outlook-calendar
DESCRIPTION: If you want to insert more rows than that, you should consider using multiple INSERT statements, BULK INSERT or a derived table.

https://www.learndesk.us/class/4608670140727296/lesson/9ede8925d209a07bd0815c0cce36fdfe?ref=outlook-calendar
STATUS:CONFIRMED
SEQUENCE:3
BEGIN:VALARM
TRIGGER:-PT10M
DESCRIPTION:Class Reminder
ACTION:DISPLAY
END:VALARM
END:VEVENT
END:VCALENDAR