BEGIN:VCALENDAR
VERSION:2.0
CALSCALE:GREGORIAN
BEGIN:VEVENT
URL:https://www.learndesk.us/class/4608670140727296/lesson/9cdade895f661d148c324b0edbe9fe5e?ref=outlook-calendar
SUMMARY:Setup On Mac
DTSTART;TZID=America/Los_Angeles:20260423T190000
DTEND;TZID=America/Los_Angeles:20260423T200000
LOCATION:https://www.learndesk.us/class/4608670140727296/lesson/9cdade895f661d148c324b0edbe9fe5e?ref=outlook-calendar
DESCRIPTION: Learn how to setup on PHP on Mac.

https://www.learndesk.us/class/4608670140727296/lesson/9cdade895f661d148c324b0edbe9fe5e?ref=outlook-calendar
STATUS:CONFIRMED
SEQUENCE:3
BEGIN:VALARM
TRIGGER:-PT10M
DESCRIPTION:Class Reminder
ACTION:DISPLAY
END:VALARM
END:VEVENT
END:VCALENDAR