BEGIN:VCALENDAR
VERSION:2.0
CALSCALE:GREGORIAN
BEGIN:VEVENT
URL:https://www.learndesk.us/class/4608670140727296/lesson/9c8c5a8e6528a40846f3446527efc1bd?ref=outlook-calendar
SUMMARY:Display Error Messages
DTSTART;TZID=America/Los_Angeles:20260423T190000
DTEND;TZID=America/Los_Angeles:20260423T200000
LOCATION:https://www.learndesk.us/class/4608670140727296/lesson/9c8c5a8e6528a40846f3446527efc1bd?ref=outlook-calendar
DESCRIPTION: If you are having problems with your PHP web application and need to display all the errors and warnings, you are in the right place. In this tutorial, we will explain all the different ways to enable PHP errors and warnings.

https://www.learndesk.us/class/4608670140727296/lesson/9c8c5a8e6528a40846f3446527efc1bd?ref=outlook-calendar
STATUS:CONFIRMED
SEQUENCE:3
BEGIN:VALARM
TRIGGER:-PT10M
DESCRIPTION:Class Reminder
ACTION:DISPLAY
END:VALARM
END:VEVENT
END:VCALENDAR