BEGIN:VCALENDAR
VERSION:2.0
CALSCALE:GREGORIAN
BEGIN:VEVENT
URL:https://www.learndesk.us/class/4608670140727296/lesson/9b0e05f270b3efcbcd0edf8f47bfc483?ref=outlook-calendar
SUMMARY:Inheritance
DTSTART;TZID=America/Los_Angeles:20260423T190000
DTEND;TZID=America/Los_Angeles:20260423T200000
LOCATION:https://www.learndesk.us/class/4608670140727296/lesson/9b0e05f270b3efcbcd0edf8f47bfc483?ref=outlook-calendar
DESCRIPTION: In object-oriented programming, inheritance is the mechanism of basing an object or class upon another object or class, retaining similar implementation. Also defined as deriving new classes from existing ones and forming them into a hierarchy of classes

https://www.learndesk.us/class/4608670140727296/lesson/9b0e05f270b3efcbcd0edf8f47bfc483?ref=outlook-calendar
STATUS:CONFIRMED
SEQUENCE:3
BEGIN:VALARM
TRIGGER:-PT10M
DESCRIPTION:Class Reminder
ACTION:DISPLAY
END:VALARM
END:VEVENT
END:VCALENDAR