BEGIN:VCALENDAR
VERSION:2.0
CALSCALE:GREGORIAN
BEGIN:VEVENT
URL:https://www.learndesk.us/class/4608670140727296/lesson/98efed3ca385b1ff5100df6fa4daca9a?ref=outlook-calendar
SUMMARY:Exception Handling
DTSTART;TZID=America/Los_Angeles:20260423T190000
DTEND;TZID=America/Los_Angeles:20260423T200000
LOCATION:https://www.learndesk.us/class/4608670140727296/lesson/98efed3ca385b1ff5100df6fa4daca9a?ref=outlook-calendar
DESCRIPTION: Exception handling is the process of responding to exceptions when a computer program runs. An exception occurs when an unexpected event happens that requires special processing.

https://www.learndesk.us/class/4608670140727296/lesson/98efed3ca385b1ff5100df6fa4daca9a?ref=outlook-calendar
STATUS:CONFIRMED
SEQUENCE:3
BEGIN:VALARM
TRIGGER:-PT10M
DESCRIPTION:Class Reminder
ACTION:DISPLAY
END:VALARM
END:VEVENT
END:VCALENDAR