BEGIN:VCALENDAR
VERSION:2.0
CALSCALE:GREGORIAN
BEGIN:VEVENT
URL:https://www.learndesk.us/class/4608670140727296/lesson/969f7e8f83f809b86891ef578ff4fd95?ref=outlook-calendar
SUMMARY:Destructor
DTSTART;TZID=America/Los_Angeles:20260423T190000
DTEND;TZID=America/Los_Angeles:20260423T200000
LOCATION:https://www.learndesk.us/class/4608670140727296/lesson/969f7e8f83f809b86891ef578ff4fd95?ref=outlook-calendar
DESCRIPTION: A destructor is a special member function that is called when the lifetime of an object ends. The purpose of the destructor is to free the resources that the object may have acquired during its lifetime.

https://www.learndesk.us/class/4608670140727296/lesson/969f7e8f83f809b86891ef578ff4fd95?ref=outlook-calendar
STATUS:CONFIRMED
SEQUENCE:3
BEGIN:VALARM
TRIGGER:-PT10M
DESCRIPTION:Class Reminder
ACTION:DISPLAY
END:VALARM
END:VEVENT
END:VCALENDAR