BEGIN:VCALENDAR
VERSION:2.0
CALSCALE:GREGORIAN
BEGIN:VEVENT
URL:https://www.learndesk.us/class/4608670140727296/lesson/9340e6a6e400f6922c5e4d2d13c4541f?ref=outlook-calendar
SUMMARY:Parse XML File
DTSTART;TZID=America/Los_Angeles:20260423T190000
DTEND;TZID=America/Los_Angeles:20260423T200000
LOCATION:https://www.learndesk.us/class/4608670140727296/lesson/9340e6a6e400f6922c5e4d2d13c4541f?ref=outlook-calendar
DESCRIPTION: The PHP simplexml_load_file() function is used to read XML data from a file.

https://www.learndesk.us/class/4608670140727296/lesson/9340e6a6e400f6922c5e4d2d13c4541f?ref=outlook-calendar
STATUS:CONFIRMED
SEQUENCE:3
BEGIN:VALARM
TRIGGER:-PT10M
DESCRIPTION:Class Reminder
ACTION:DISPLAY
END:VALARM
END:VEVENT
END:VCALENDAR