BEGIN:VCALENDAR
VERSION:2.0
CALSCALE:GREGORIAN
BEGIN:VEVENT
URL:https://www.learndesk.us/class/4608670140727296/lesson/92b1685f26049640c6f580eac7c4fdcb?ref=outlook-calendar
SUMMARY:Function Returning Values
DTSTART;TZID=America/Los_Angeles:20260423T190000
DTEND;TZID=America/Los_Angeles:20260423T200000
LOCATION:https://www.learndesk.us/class/4608670140727296/lesson/92b1685f26049640c6f580eac7c4fdcb?ref=outlook-calendar
DESCRIPTION: A return is a value that a function returns to the calling script or function when it completes its task. A return value can be any one of the four variable types: handle, integer, object, or string.

https://www.learndesk.us/class/4608670140727296/lesson/92b1685f26049640c6f580eac7c4fdcb?ref=outlook-calendar
STATUS:CONFIRMED
SEQUENCE:3
BEGIN:VALARM
TRIGGER:-PT10M
DESCRIPTION:Class Reminder
ACTION:DISPLAY
END:VALARM
END:VEVENT
END:VCALENDAR