BEGIN:VCALENDAR
VERSION:2.0
CALSCALE:GREGORIAN
BEGIN:VEVENT
URL:https://www.learndesk.us/class/4608670140727296/lesson/922e93b0ce55d51510f509dcc4a899b6?ref=outlook-calendar
SUMMARY:Validate Email
DTSTART;TZID=America/Los_Angeles:20260423T190000
DTEND;TZID=America/Los_Angeles:20260423T200000
LOCATION:https://www.learndesk.us/class/4608670140727296/lesson/922e93b0ce55d51510f509dcc4a899b6?ref=outlook-calendar
DESCRIPTION: If the email address syntax is not valid, then lets show an error message:

https://www.learndesk.us/class/4608670140727296/lesson/922e93b0ce55d51510f509dcc4a899b6?ref=outlook-calendar
STATUS:CONFIRMED
SEQUENCE:3
BEGIN:VALARM
TRIGGER:-PT10M
DESCRIPTION:Class Reminder
ACTION:DISPLAY
END:VALARM
END:VEVENT
END:VCALENDAR