BEGIN:VCALENDAR
VERSION:2.0
CALSCALE:GREGORIAN
BEGIN:VEVENT
URL:https://www.learndesk.us/class/4608670140727296/lesson/8e13bd376bc0106554379fadf5dcc050?ref=outlook-calendar
SUMMARY:Initializing the XML Expat Parser
DTSTART;TZID=America/Los_Angeles:20260423T190000
DTEND;TZID=America/Los_Angeles:20260423T200000
LOCATION:https://www.learndesk.us/class/4608670140727296/lesson/8e13bd376bc0106554379fadf5dcc050?ref=outlook-calendar
DESCRIPTION: The built-in XML Expat Parser makes it possible to process XML documents in PHP.

https://www.learndesk.us/class/4608670140727296/lesson/8e13bd376bc0106554379fadf5dcc050?ref=outlook-calendar
STATUS:CONFIRMED
SEQUENCE:3
BEGIN:VALARM
TRIGGER:-PT10M
DESCRIPTION:Class Reminder
ACTION:DISPLAY
END:VALARM
END:VEVENT
END:VCALENDAR