BEGIN:VCALENDAR
VERSION:2.0
CALSCALE:GREGORIAN
BEGIN:VEVENT
URL:https://www.learndesk.us/class/4608670140727296/lesson/8d70b46d7f8cf5989e22ba77fcf5569d?ref=outlook-calendar
SUMMARY:Validate URL - Must Contain QueryString
DTSTART;TZID=America/Los_Angeles:20260423T190000
DTEND;TZID=America/Los_Angeles:20260423T200000
LOCATION:https://www.learndesk.us/class/4608670140727296/lesson/8d70b46d7f8cf5989e22ba77fcf5569d?ref=outlook-calendar
DESCRIPTION: When building web pages, it is often necessary to add links that require parameterised query strings.

https://www.learndesk.us/class/4608670140727296/lesson/8d70b46d7f8cf5989e22ba77fcf5569d?ref=outlook-calendar
STATUS:CONFIRMED
SEQUENCE:3
BEGIN:VALARM
TRIGGER:-PT10M
DESCRIPTION:Class Reminder
ACTION:DISPLAY
END:VALARM
END:VEVENT
END:VCALENDAR