BEGIN:VCALENDAR
VERSION:2.0
CALSCALE:GREGORIAN
BEGIN:VEVENT
URL:https://www.learndesk.us/class/4608670140727296/lesson/8aa95a05985454e66fb58ea74c396cfc?ref=outlook-calendar
SUMMARY:Parse XML String
DTSTART;TZID=America/Los_Angeles:20260423T190000
DTEND;TZID=America/Los_Angeles:20260423T200000
LOCATION:https://www.learndesk.us/class/4608670140727296/lesson/8aa95a05985454e66fb58ea74c396cfc?ref=outlook-calendar
DESCRIPTION: The PHP simplexml_load_string() function is used to read XML data from a string.

https://www.learndesk.us/class/4608670140727296/lesson/8aa95a05985454e66fb58ea74c396cfc?ref=outlook-calendar
STATUS:CONFIRMED
SEQUENCE:3
BEGIN:VALARM
TRIGGER:-PT10M
DESCRIPTION:Class Reminder
ACTION:DISPLAY
END:VALARM
END:VEVENT
END:VCALENDAR