BEGIN:VCALENDAR
VERSION:2.0
CALSCALE:GREGORIAN
BEGIN:VEVENT
URL:https://www.learndesk.us/class/4608670140727296/lesson/8322083f9ee77718cc927d123c09ac45?ref=outlook-calendar
SUMMARY:Get Node Values of Specific Elements
DTSTART;TZID=America/Los_Angeles:20260423T190000
DTEND;TZID=America/Los_Angeles:20260423T200000
LOCATION:https://www.learndesk.us/class/4608670140727296/lesson/8322083f9ee77718cc927d123c09ac45?ref=outlook-calendar
DESCRIPTION: When there are multiple nodes on the same level we can access specific nodes.

https://www.learndesk.us/class/4608670140727296/lesson/8322083f9ee77718cc927d123c09ac45?ref=outlook-calendar
STATUS:CONFIRMED
SEQUENCE:3
BEGIN:VALARM
TRIGGER:-PT10M
DESCRIPTION:Class Reminder
ACTION:DISPLAY
END:VALARM
END:VEVENT
END:VCALENDAR