BEGIN:VCALENDAR
VERSION:2.0
CALSCALE:GREGORIAN
BEGIN:VEVENT
URL:https://www.learndesk.us/class/4608670140727296/lesson/7d8d957b659aeaf779d68e1af04626b6?ref=outlook-calendar
SUMMARY:Interfaces
DTSTART;TZID=America/Los_Angeles:20260423T190000
DTEND;TZID=America/Los_Angeles:20260423T200000
LOCATION:https://www.learndesk.us/class/4608670140727296/lesson/7d8d957b659aeaf779d68e1af04626b6?ref=outlook-calendar
DESCRIPTION: An interface has a variables and methods, "just like the class but the methods declared in interface are by default abstract (only method signature, no body)". ... A Classes Interface refers to all the implemented public methods of a class. An Interface as a Type. i.e using the keyword interface to declare an Interface

https://www.learndesk.us/class/4608670140727296/lesson/7d8d957b659aeaf779d68e1af04626b6?ref=outlook-calendar
STATUS:CONFIRMED
SEQUENCE:3
BEGIN:VALARM
TRIGGER:-PT10M
DESCRIPTION:Class Reminder
ACTION:DISPLAY
END:VALARM
END:VEVENT
END:VCALENDAR