BEGIN:VCALENDAR
VERSION:2.0
CALSCALE:GREGORIAN
BEGIN:VEVENT
URL:https://www.learndesk.us/class/4608670140727296/lesson/7d5ce3c1022b30738de7d888638760e1?ref=outlook-calendar
SUMMARY:Limit File Type
DTSTART;TZID=America/Los_Angeles:20260423T190000
DTEND;TZID=America/Los_Angeles:20260423T200000
LOCATION:https://www.learndesk.us/class/4608670140727296/lesson/7d5ce3c1022b30738de7d888638760e1?ref=outlook-calendar
DESCRIPTION: Now we will restrict the type of images acceptable

https://www.learndesk.us/class/4608670140727296/lesson/7d5ce3c1022b30738de7d888638760e1?ref=outlook-calendar
STATUS:CONFIRMED
SEQUENCE:3
BEGIN:VALARM
TRIGGER:-PT10M
DESCRIPTION:Class Reminder
ACTION:DISPLAY
END:VALARM
END:VEVENT
END:VCALENDAR