BEGIN:VCALENDAR
VERSION:2.0
CALSCALE:GREGORIAN
BEGIN:VEVENT
URL:https://www.learndesk.us/class/4608670140727296/lesson/735ccf67d3fdfacbd308c98b5fd13879?ref=outlook-calendar
SUMMARY:Front End HTML Upload Form
DTSTART;TZID=America/Los_Angeles:20260423T190000
DTEND;TZID=America/Los_Angeles:20260423T200000
LOCATION:https://www.learndesk.us/class/4608670140727296/lesson/735ccf67d3fdfacbd308c98b5fd13879?ref=outlook-calendar
DESCRIPTION: Next, let's create an HTML form that allow users to choose the image file they want to upload.

https://www.learndesk.us/class/4608670140727296/lesson/735ccf67d3fdfacbd308c98b5fd13879?ref=outlook-calendar
STATUS:CONFIRMED
SEQUENCE:3
BEGIN:VALARM
TRIGGER:-PT10M
DESCRIPTION:Class Reminder
ACTION:DISPLAY
END:VALARM
END:VEVENT
END:VCALENDAR