BEGIN:VCALENDAR
VERSION:2.0
CALSCALE:GREGORIAN
BEGIN:VEVENT
URL:https://www.learndesk.us/class/4608670140727296/lesson/72142dc0bdeff83d6eb942dd14f1a5d3?ref=outlook-calendar
SUMMARY:PHPMailer Setup
DTSTART;TZID=America/Los_Angeles:20260423T190000
DTEND;TZID=America/Los_Angeles:20260423T200000
LOCATION:https://www.learndesk.us/class/4608670140727296/lesson/72142dc0bdeff83d6eb942dd14f1a5d3?ref=outlook-calendar
DESCRIPTION: PHPMailer is a code library to send emails safely and easily via PHP code from a web server. Sending emails directly by PHP code requires a high-level familiarity to SMTP standard protocol and related issues and vulnerabilities about Email injection for spamming.

https://www.learndesk.us/class/4608670140727296/lesson/72142dc0bdeff83d6eb942dd14f1a5d3?ref=outlook-calendar
STATUS:CONFIRMED
SEQUENCE:3
BEGIN:VALARM
TRIGGER:-PT10M
DESCRIPTION:Class Reminder
ACTION:DISPLAY
END:VALARM
END:VEVENT
END:VCALENDAR