BEGIN:VCALENDAR
VERSION:2.0
CALSCALE:GREGORIAN
BEGIN:VEVENT
URL:https://www.learndesk.us/class/4608670140727296/lesson/6dd804dd52dfa0696845b45010b9d773?ref=outlook-calendar
SUMMARY:Custom Error Handler
DTSTART;TZID=America/Los_Angeles:20260423T190000
DTEND;TZID=America/Los_Angeles:20260423T200000
LOCATION:https://www.learndesk.us/class/4608670140727296/lesson/6dd804dd52dfa0696845b45010b9d773?ref=outlook-calendar
DESCRIPTION: The set_error_handler() function sets a user-defined error handler function.

Note: The standard PHP error handler is completely bypassed if this function is used, and the user-defined error handler must terminate the script, die(), if necessary.

Note: If errors occur before the script is executed the custom error handler cannot be used since it is not registered at that time.

https://www.learndesk.us/class/4608670140727296/lesson/6dd804dd52dfa0696845b45010b9d773?ref=outlook-calendar
STATUS:CONFIRMED
SEQUENCE:3
BEGIN:VALARM
TRIGGER:-PT10M
DESCRIPTION:Class Reminder
ACTION:DISPLAY
END:VALARM
END:VEVENT
END:VCALENDAR