BEGIN:VCALENDAR
VERSION:2.0
CALSCALE:GREGORIAN
BEGIN:VEVENT
URL:https://www.learndesk.us/class/4608670140727296/lesson/6c8e4790d94cb63b50f28403676a1188?ref=outlook-calendar
SUMMARY:Basic File Syntax
DTSTART;TZID=America/Los_Angeles:20260423T190000
DTEND;TZID=America/Los_Angeles:20260423T200000
LOCATION:https://www.learndesk.us/class/4608670140727296/lesson/6c8e4790d94cb63b50f28403676a1188?ref=outlook-calendar
DESCRIPTION: Learn about the basic format of a PHP file and how to utilize basic features.

https://www.learndesk.us/class/4608670140727296/lesson/6c8e4790d94cb63b50f28403676a1188?ref=outlook-calendar
STATUS:CONFIRMED
SEQUENCE:3
BEGIN:VALARM
TRIGGER:-PT10M
DESCRIPTION:Class Reminder
ACTION:DISPLAY
END:VALARM
END:VEVENT
END:VCALENDAR