BEGIN:VCALENDAR
VERSION:2.0
CALSCALE:GREGORIAN
BEGIN:VEVENT
URL:https://www.learndesk.us/class/4608670140727296/lesson/6acc3b3ee456570bbf93b27d993b1264?ref=outlook-calendar
SUMMARY:Final Keyword
DTSTART;TZID=America/Los_Angeles:20260423T190000
DTEND;TZID=America/Los_Angeles:20260423T200000
LOCATION:https://www.learndesk.us/class/4608670140727296/lesson/6acc3b3ee456570bbf93b27d993b1264?ref=outlook-calendar
DESCRIPTION: inal keyword in PHP is used in different context. The final keyword is used only for methods and classes. Final methods: When a method is declared as final then overriding on that method can not be performed. ... Final Classes: A class declared as final can not be extended in future.

https://www.learndesk.us/class/4608670140727296/lesson/6acc3b3ee456570bbf93b27d993b1264?ref=outlook-calendar
STATUS:CONFIRMED
SEQUENCE:3
BEGIN:VALARM
TRIGGER:-PT10M
DESCRIPTION:Class Reminder
ACTION:DISPLAY
END:VALARM
END:VEVENT
END:VCALENDAR