BEGIN:VCALENDAR
VERSION:2.0
CALSCALE:GREGORIAN
BEGIN:VEVENT
URL:https://www.learndesk.us/class/4608670140727296/lesson/6715f2980ab5c7b44b1b7175e011ec92?ref=outlook-calendar
SUMMARY:Basic Class With Variables
DTSTART;TZID=America/Los_Angeles:20260423T190000
DTEND;TZID=America/Los_Angeles:20260423T200000
LOCATION:https://www.learndesk.us/class/4608670140727296/lesson/6715f2980ab5c7b44b1b7175e011ec92?ref=outlook-calendar
DESCRIPTION: In object-oriented programming, a class is an extensible program-code-template for creating objects, providing initial values for state and implementations of behaviour.

https://www.learndesk.us/class/4608670140727296/lesson/6715f2980ab5c7b44b1b7175e011ec92?ref=outlook-calendar
STATUS:CONFIRMED
SEQUENCE:3
BEGIN:VALARM
TRIGGER:-PT10M
DESCRIPTION:Class Reminder
ACTION:DISPLAY
END:VALARM
END:VEVENT
END:VCALENDAR