BEGIN:VCALENDAR
VERSION:2.0
CALSCALE:GREGORIAN
BEGIN:VEVENT
URL:https://www.learndesk.us/class/4608670140727296/lesson/654d2d5733984bde05b670d06a3169cb?ref=outlook-calendar
SUMMARY:Get Attribute Values
DTSTART;TZID=America/Los_Angeles:20260423T190000
DTEND;TZID=America/Los_Angeles:20260423T200000
LOCATION:https://www.learndesk.us/class/4608670140727296/lesson/654d2d5733984bde05b670d06a3169cb?ref=outlook-calendar
DESCRIPTION: In the DOM, attributes are nodes. Unlike element nodes, attribute nodes have text values. The way to get the value of an attribute, is to get its text value.

https://www.learndesk.us/class/4608670140727296/lesson/654d2d5733984bde05b670d06a3169cb?ref=outlook-calendar
STATUS:CONFIRMED
SEQUENCE:3
BEGIN:VALARM
TRIGGER:-PT10M
DESCRIPTION:Class Reminder
ACTION:DISPLAY
END:VALARM
END:VEVENT
END:VCALENDAR