BEGIN:VCALENDAR
VERSION:2.0
CALSCALE:GREGORIAN
BEGIN:VEVENT
URL:https://www.learndesk.us/class/4608670140727296/lesson/5eeaddd70cac4d04e875045597f105cd?ref=outlook-calendar
SUMMARY:Validate URL
DTSTART;TZID=America/Los_Angeles:20260423T190000
DTEND;TZID=America/Los_Angeles:20260423T200000
LOCATION:https://www.learndesk.us/class/4608670140727296/lesson/5eeaddd70cac4d04e875045597f105cd?ref=outlook-calendar
DESCRIPTION: If the URL address syntax is not valid, then lets show an error message:

https://www.learndesk.us/class/4608670140727296/lesson/5eeaddd70cac4d04e875045597f105cd?ref=outlook-calendar
STATUS:CONFIRMED
SEQUENCE:3
BEGIN:VALARM
TRIGGER:-PT10M
DESCRIPTION:Class Reminder
ACTION:DISPLAY
END:VALARM
END:VEVENT
END:VCALENDAR