BEGIN:VCALENDAR
VERSION:2.0
CALSCALE:GREGORIAN
BEGIN:VEVENT
URL:https://www.learndesk.us/class/4608670140727296/lesson/5d10dc1066d82453c0454c3238ab5ec3?ref=outlook-calendar
SUMMARY:Check If File Exists
DTSTART;TZID=America/Los_Angeles:20260423T190000
DTEND;TZID=America/Los_Angeles:20260423T200000
LOCATION:https://www.learndesk.us/class/4608670140727296/lesson/5d10dc1066d82453c0454c3238ab5ec3?ref=outlook-calendar
DESCRIPTION: Now lets check if the file exists and prevent replacing the file.

https://www.learndesk.us/class/4608670140727296/lesson/5d10dc1066d82453c0454c3238ab5ec3?ref=outlook-calendar
STATUS:CONFIRMED
SEQUENCE:3
BEGIN:VALARM
TRIGGER:-PT10M
DESCRIPTION:Class Reminder
ACTION:DISPLAY
END:VALARM
END:VEVENT
END:VCALENDAR