BEGIN:VCALENDAR
VERSION:2.0
CALSCALE:GREGORIAN
BEGIN:VEVENT
URL:https://www.learndesk.us/class/4608670140727296/lesson/5c33d5b3c5679c56d82d73aee355f691?ref=outlook-calendar
SUMMARY:Get Data Using SELECT Query
DTSTART;TZID=America/Los_Angeles:20260423T190000
DTEND;TZID=America/Los_Angeles:20260423T200000
LOCATION:https://www.learndesk.us/class/4608670140727296/lesson/5c33d5b3c5679c56d82d73aee355f691?ref=outlook-calendar
DESCRIPTION: The SELECT statement is used to select data from a database.

The data returned is stored in a result table, called the result-set.

https://www.learndesk.us/class/4608670140727296/lesson/5c33d5b3c5679c56d82d73aee355f691?ref=outlook-calendar
STATUS:CONFIRMED
SEQUENCE:3
BEGIN:VALARM
TRIGGER:-PT10M
DESCRIPTION:Class Reminder
ACTION:DISPLAY
END:VALARM
END:VEVENT
END:VCALENDAR