BEGIN:VCALENDAR
VERSION:2.0
CALSCALE:GREGORIAN
BEGIN:VEVENT
URL:https://www.learndesk.us/class/4608670140727296/lesson/5bcd7da49fae2ea81ac9214b51ebdf59?ref=outlook-calendar
SUMMARY:Get ID Of The Last Inserted Row
DTSTART;TZID=America/Los_Angeles:20260423T190000
DTEND;TZID=America/Los_Angeles:20260423T200000
LOCATION:https://www.learndesk.us/class/4608670140727296/lesson/5bcd7da49fae2ea81ac9214b51ebdf59?ref=outlook-calendar
DESCRIPTION: Get the primary key/id of the last inserted row.

https://www.learndesk.us/class/4608670140727296/lesson/5bcd7da49fae2ea81ac9214b51ebdf59?ref=outlook-calendar
STATUS:CONFIRMED
SEQUENCE:3
BEGIN:VALARM
TRIGGER:-PT10M
DESCRIPTION:Class Reminder
ACTION:DISPLAY
END:VALARM
END:VEVENT
END:VCALENDAR