BEGIN:VCALENDAR
VERSION:2.0
CALSCALE:GREGORIAN
BEGIN:VEVENT
URL:https://www.learndesk.us/class/4608670140727296/lesson/5a5245d971d1dde6c5f44597fd310523?ref=outlook-calendar
SUMMARY:Associative Arrays
DTSTART;TZID=America/Los_Angeles:20260423T190000
DTEND;TZID=America/Los_Angeles:20260423T200000
LOCATION:https://www.learndesk.us/class/4608670140727296/lesson/5a5245d971d1dde6c5f44597fd310523?ref=outlook-calendar
DESCRIPTION: In computer science, an associative array, symbol table, dictionary, or collection of tuples is an abstract data type that maps a unique string to an instance of an object.

https://www.learndesk.us/class/4608670140727296/lesson/5a5245d971d1dde6c5f44597fd310523?ref=outlook-calendar
STATUS:CONFIRMED
SEQUENCE:3
BEGIN:VALARM
TRIGGER:-PT10M
DESCRIPTION:Class Reminder
ACTION:DISPLAY
END:VALARM
END:VEVENT
END:VCALENDAR