BEGIN:VCALENDAR
VERSION:2.0
CALSCALE:GREGORIAN
BEGIN:VEVENT
URL:https://www.learndesk.us/class/4608670140727296/lesson/55143abc2fbbf268933091516da6ae6f?ref=outlook-calendar
SUMMARY:What Is AJAX?
DTSTART;TZID=America/Los_Angeles:20260423T190000
DTEND;TZID=America/Los_Angeles:20260423T200000
LOCATION:https://www.learndesk.us/class/4608670140727296/lesson/55143abc2fbbf268933091516da6ae6f?ref=outlook-calendar
DESCRIPTION: Ajax is short for Asynchronous JavaScript and XML, which refers to a set of web development techniques rather than an actual programming language. Ajax however, is widely used in client-side programming (e.g. JavaScript) to allow for data to be sent and received to and from a database/server.

https://www.learndesk.us/class/4608670140727296/lesson/55143abc2fbbf268933091516da6ae6f?ref=outlook-calendar
STATUS:CONFIRMED
SEQUENCE:3
BEGIN:VALARM
TRIGGER:-PT10M
DESCRIPTION:Class Reminder
ACTION:DISPLAY
END:VALARM
END:VEVENT
END:VCALENDAR