BEGIN:VCALENDAR
VERSION:2.0
CALSCALE:GREGORIAN
BEGIN:VEVENT
URL:https://www.learndesk.us/class/4608670140727296/lesson/54fe4f4d1aa89b980cbe1bb7117bbd80?ref=outlook-calendar
SUMMARY:Sorting Results Using ORDER BY Propert
DTSTART;TZID=America/Los_Angeles:20260423T190000
DTEND;TZID=America/Los_Angeles:20260423T200000
LOCATION:https://www.learndesk.us/class/4608670140727296/lesson/54fe4f4d1aa89b980cbe1bb7117bbd80?ref=outlook-calendar
DESCRIPTION: The ORDER BY keyword is used to sort the result-set in ascending or descending order.

The ORDER BY keyword sorts the records in ascending order by default. To sort the records in descending order, use the DESC keyword.

https://www.learndesk.us/class/4608670140727296/lesson/54fe4f4d1aa89b980cbe1bb7117bbd80?ref=outlook-calendar
STATUS:CONFIRMED
SEQUENCE:3
BEGIN:VALARM
TRIGGER:-PT10M
DESCRIPTION:Class Reminder
ACTION:DISPLAY
END:VALARM
END:VEVENT
END:VCALENDAR