BEGIN:VCALENDAR
VERSION:2.0
CALSCALE:GREGORIAN
BEGIN:VEVENT
URL:https://www.learndesk.us/class/4608670140727296/lesson/546f43b63b7f78ac04794fb76719d3a1?ref=outlook-calendar
SUMMARY:Limit Data Selections Using LIMIT, ROWNUM
DTSTART;TZID=America/Los_Angeles:20260423T190000
DTEND;TZID=America/Los_Angeles:20260423T200000
LOCATION:https://www.learndesk.us/class/4608670140727296/lesson/546f43b63b7f78ac04794fb76719d3a1?ref=outlook-calendar
DESCRIPTION: The SQL SELECT LIMIT statement is used to retrieve records from one or more tables in a database and limit the number of records returned based on a limit value.

https://www.learndesk.us/class/4608670140727296/lesson/546f43b63b7f78ac04794fb76719d3a1?ref=outlook-calendar
STATUS:CONFIRMED
SEQUENCE:3
BEGIN:VALARM
TRIGGER:-PT10M
DESCRIPTION:Class Reminder
ACTION:DISPLAY
END:VALARM
END:VEVENT
END:VCALENDAR