BEGIN:VCALENDAR
VERSION:2.0
CALSCALE:GREGORIAN
BEGIN:VEVENT
URL:https://www.learndesk.us/class/4608670140727296/lesson/4d830e80e5f474c1b9af316b4345d8fb?ref=outlook-calendar
SUMMARY:Keep The Values In The Form
DTSTART;TZID=America/Los_Angeles:20260423T190000
DTEND;TZID=America/Los_Angeles:20260423T200000
LOCATION:https://www.learndesk.us/class/4608670140727296/lesson/4d830e80e5f474c1b9af316b4345d8fb?ref=outlook-calendar
DESCRIPTION: To show the values in the input fields after the user hits the submit button, we add a little PHP script inside the value attribute.

https://www.learndesk.us/class/4608670140727296/lesson/4d830e80e5f474c1b9af316b4345d8fb?ref=outlook-calendar
STATUS:CONFIRMED
SEQUENCE:3
BEGIN:VALARM
TRIGGER:-PT10M
DESCRIPTION:Class Reminder
ACTION:DISPLAY
END:VALARM
END:VEVENT
END:VCALENDAR