BEGIN:VCALENDAR
VERSION:2.0
CALSCALE:GREGORIAN
BEGIN:VEVENT
URL:https://www.learndesk.us/class/4608670140727296/lesson/47c4a826e51ac2e33b0a77af99639b0a?ref=outlook-calendar
SUMMARY:Printing (echo)
DTSTART;TZID=America/Los_Angeles:20260423T190000
DTEND;TZID=America/Los_Angeles:20260423T200000
LOCATION:https://www.learndesk.us/class/4608670140727296/lesson/47c4a826e51ac2e33b0a77af99639b0a?ref=outlook-calendar
DESCRIPTION: The echo() function outputs one or more strings.

Note: The echo() function is not actually a function, so you are not required to use parentheses with it. However, if you want to pass more than one parameter to echo(), using parentheses will generate a parse error.

https://www.learndesk.us/class/4608670140727296/lesson/47c4a826e51ac2e33b0a77af99639b0a?ref=outlook-calendar
STATUS:CONFIRMED
SEQUENCE:3
BEGIN:VALARM
TRIGGER:-PT10M
DESCRIPTION:Class Reminder
ACTION:DISPLAY
END:VALARM
END:VEVENT
END:VCALENDAR