BEGIN:VCALENDAR
VERSION:2.0
CALSCALE:GREGORIAN
BEGIN:VEVENT
URL:https://www.learndesk.us/class/4608670140727296/lesson/4351b46df1547c84ca45f18c9d39fd78?ref=outlook-calendar
SUMMARY:Load Simple Data Using AJAX Front End
DTSTART;TZID=America/Los_Angeles:20260423T190000
DTEND;TZID=America/Los_Angeles:20260423T200000
LOCATION:https://www.learndesk.us/class/4608670140727296/lesson/4351b46df1547c84ca45f18c9d39fd78?ref=outlook-calendar
DESCRIPTION: AJAX is used to create more interactive applications.

Let's implement the HTML/JavaScript frontend.

https://www.learndesk.us/class/4608670140727296/lesson/4351b46df1547c84ca45f18c9d39fd78?ref=outlook-calendar
STATUS:CONFIRMED
SEQUENCE:3
BEGIN:VALARM
TRIGGER:-PT10M
DESCRIPTION:Class Reminder
ACTION:DISPLAY
END:VALARM
END:VEVENT
END:VCALENDAR